BEGIN:VCALENDAR
VERSION:2.0
PRODID:-//Tango and Salsa in New York's Hudson Valley: Dojo Dance Company - ECPv4.7.3//NONSGML v1.0//EN
CALSCALE:GREGORIAN
METHOD:PUBLISH
X-WR-CALNAME:Tango and Salsa in New York's Hudson Valley: Dojo Dance Company
X-ORIGINAL-URL:http://www.dojodancecompany.com
X-WR-CALDESC:Events for Tango and Salsa in New York's Hudson Valley: Dojo Dance Company
BEGIN:VEVENT
DTSTART;TZID=America/New_York:20250605T080000
DTEND;TZID=America/New_York:20250605T170000
DTSTAMP:20260421T133914
CREATED:20250531T140409Z
LAST-MODIFIED:20250601T211005Z
UID:16505-1749110400-1749142800@www.dojodancecompany.com
SUMMARY:ABSOLUTE BEGINNER SALSA
DESCRIPTION:WE LAUNCH ABSOLUTE BEGINNER PROGRAMS 4 TIMES AT YEAR:\nABSOLUTE BEGINNER PROGRAM\nNext cycle JUNE 19 – JULY 24\n6 Weeks program\nDate: Thursday 6/19 through 7/24 (*6 Thursdays)\nTime: 7:15pm - 8:15pm\nCost: $100\nVenue: CCE / Dojo\nAddress: 16 Cedar street\, Kingston NY\n
URL:http://www.dojodancecompany.com/event/absolute-beginner-salsa/
LOCATION:16 cedar street\, Kingston NY\, NY\, 12401\, United States
CATEGORIES:Beginning Salsa Instruction,Salsa
ORGANIZER;CN="Dojo%20Dance%20Company":MAILTO:dojodanceco@gmail.com
END:VEVENT
END:VCALENDAR