BEGIN:VCALENDAR
VERSION:2.0
PRODID:-//Tango and Salsa in New York's Hudson Valley: Dojo Dance Company - ECPv4.7.3//NONSGML v1.0//EN
CALSCALE:GREGORIAN
METHOD:PUBLISH
X-WR-CALNAME:Tango and Salsa in New York's Hudson Valley: Dojo Dance Company
X-ORIGINAL-URL:http://www.dojodancecompany.com
X-WR-CALDESC:Events for Tango and Salsa in New York's Hudson Valley: Dojo Dance Company
BEGIN:VEVENT
DTSTART;TZID=America/New_York:20240930T180000
DTEND;TZID=America/New_York:20240930T190000
DTSTAMP:20260421T152339
CREATED:20240912T142302Z
LAST-MODIFIED:20240928T204223Z
UID:14975-1727719200-1727722800@www.dojodancecompany.com
SUMMARY:FREE SALSA CLASS IN NEWBURGH
DESCRIPTION:2 FREE SALSA CLASSES  with Dojo Dance Company \nWe are honor to be part of Mount Saint Mary College’S Desmond Center programing this month. \nCome and learn SALSA with us 10/07. Whether you’re a beginner or have some experience\, this class will help you start the week with the greatest mood and energy. No partner required. \nAbout this Event \n\nGuzman Hall Multipurpose Room\, 101View map  \n\nAdd to calendar  \n\nDate: Monday\, September 30th & October 7th \nTime: 6 – 7:15 p.m. \nLocation: Mount Saint Mary College’s Desmond Center\, room 101 \n\n\n\n\nAddress: 330 Powell Ave\, Newburgh\, NY 12550 \n\n\n\n\n\n  \n\n
URL:http://www.dojodancecompany.com/event/free-salsa-class-in-newburgh/2024-09-30/
LOCATION:MOUNT SAINT MARYS COLLEGE\, 33O POWELL AVE\, NEWBURGH\, NY\, 12550\, United States
CATEGORIES:Salsa
END:VEVENT
END:VCALENDAR