BEGIN:VCALENDAR
VERSION:2.0
PRODID:-//Tango and Salsa in New York's Hudson Valley: Dojo Dance Company - ECPv4.7.3//NONSGML v1.0//EN
CALSCALE:GREGORIAN
METHOD:PUBLISH
X-WR-CALNAME:Tango and Salsa in New York's Hudson Valley: Dojo Dance Company
X-ORIGINAL-URL:http://www.dojodancecompany.com
X-WR-CALDESC:Events for Tango and Salsa in New York's Hudson Valley: Dojo Dance Company
BEGIN:VEVENT
DTSTART;TZID=America/New_York:20240706T103000
DTEND;TZID=America/New_York:20240706T190000
DTSTAMP:20260421T155700
CREATED:20240625T204634Z
LAST-MODIFIED:20240625T210745Z
UID:14434-1720261800-1720292400@www.dojodancecompany.com
SUMMARY:JULY 6-7 TANGO EVENT
DESCRIPTION:Hola\, we are looking forward to this juicy time together. We are opening our home for you to come and experience an Argentine weekend. Yes\, with all the chaos\, joy\, spontaneity\, simplicity and magic. There is only open to 12 dancers so please\, express your interest and sign up ASAP. \n⇒ Inquire about JULY 6-7 ARGENTINA & TANGO GATHERING we have only a few spots available. No your usual tango weekend. This time we will dance\, cook\, sing & dance chacarera. Have guided conversations\, learn technique and exchange views. We will not only improve our tango\, we will enrich our life. \n  \nE-mail: dojodanceco@gmail.com \n
URL:http://www.dojodancecompany.com/event/july-6-7-tango-event/2024-07-06/
LOCATION:432 Main street\, Rosendale NY\, Rosendale\, NY\, 12472\, United States
ORGANIZER;CN="Dojo%20Dance%20Company":MAILTO:dojodanceco@gmail.com
END:VEVENT
END:VCALENDAR