BEGIN:VCALENDAR
VERSION:2.0
PRODID:-//Tango and Salsa in New York's Hudson Valley: Dojo Dance Company - ECPv4.7.3//NONSGML v1.0//EN
CALSCALE:GREGORIAN
METHOD:PUBLISH
X-WR-CALNAME:Tango and Salsa in New York's Hudson Valley: Dojo Dance Company
X-ORIGINAL-URL:http://www.dojodancecompany.com
X-WR-CALDESC:Events for Tango and Salsa in New York's Hudson Valley: Dojo Dance Company
BEGIN:VEVENT
DTSTART;TZID=America/New_York:20240622T180000
DTEND;TZID=America/New_York:20240622T220000
DTSTAMP:20260421T170116
CREATED:20240521T175104Z
LAST-MODIFIED:20240521T175844Z
UID:14222-1719079200-1719093600@www.dojodancecompany.com
SUMMARY:LIVE MUSIC\, DANCE CLASS & SOCIAL DANCING: La Voz 20TH Anniversary
DESCRIPTION:  \nThe Twentieth Anniversary of La Voz Magazine\nEl 20 Aniversario de la Revista La Voz\nSaturday\, June 22\, 2024\n6–10 pm\nFisher Center\, Spiegeltent\n \nLa Voz celebrates 20 years in print! Experience an unforgettable evening filled with live music by the renowned Alex Torres & His Latin Orchestra\, electrifying dance beats on the Spiegeltent dance floor. Dance Class led by Dojo Dance Company 6pm. \nSpecial tributes to honorees who serve the Hispanic communities of the Hudson Valley\, a three-course meal with a Latino flavor catered by Tilda’s Kitchen (included in all ticket prices)\, a silent auction\, and more. \n  \nDescripción General\n¡La Voz cumple 20 años en prensa! Experimente una velada inolvidable llena de música en vivo del renombrado Alex Torres y su orquesta latina\, ritmos de baile electrizantes en la pista de baile Spiegeltent. Clase de baile a cargo de DOJO DANCE COMPANY 6pm. Reconocimiento a los homenajeados que sirven a las comunidades hispanas del Valle del Hudson\, una subasta silenciosa y más. \nSponsored by: La Voz. \nFor more information\, call 845-758-7900\, e-mail boxoffice@bard.edu\, or visit https://fishercenter.bard.edu/events/lavoz24/. \n
URL:http://www.dojodancecompany.com/event/live-music-dance-class-social-dancing-la-voz-anniversary/
LOCATION:SPIEGUELTENT\, BARD COLLEGUE\, RED HOOK\, NY\, United States
GEO:40.6772802;-74.0094471
CATEGORIES:All Levels Salsa Instruction,BACHATA,Beginning Salsa Instruction,Intermediate Salsa Instructions,Salsa,Social Dance
END:VEVENT
END:VCALENDAR