BEGIN:VCALENDAR
VERSION:2.0
PRODID:-//Tango and Salsa in New York's Hudson Valley: Dojo Dance Company - ECPv4.7.3//NONSGML v1.0//EN
CALSCALE:GREGORIAN
METHOD:PUBLISH
X-WR-CALNAME:Tango and Salsa in New York's Hudson Valley: Dojo Dance Company
X-ORIGINAL-URL:http://www.dojodancecompany.com
X-WR-CALDESC:Events for Tango and Salsa in New York's Hudson Valley: Dojo Dance Company
BEGIN:VEVENT
DTSTART;TZID=America/New_York:20240819T191500
DTEND;TZID=America/New_York:20240819T201500
DTSTAMP:20260421T154240
CREATED:20200917T060547Z
LAST-MODIFIED:20240525T040300Z
UID:14218-1724094900-1724098500@www.dojodancecompany.com
SUMMARY:SALSA LEVEL 2
DESCRIPTION:New Series Start every First week of the month. \nEvery Monday join sessions of Salsa partner-work & shines level 2. We recommend you follow our updates and double check if classes are running during inclement weather. \nThis class is for salsa dancers with previous experience. To join students should have a clear understanding of timing\, lead & follow system and basic footwork. \nEvery Monday\, learn fun and more complex turn combinations & shines. \nRegistering with partners is ideal but not mandatory. Instructors will encourage rotation within partners\, if you are not willing to rotate you must register with a partner and communicate with us. \nDay: Monday\nTime: 7:15pm\nAddress: 734 Broadway\, Kingston NY\nFee: $65 Monthly pass (up to 5 classes within the month) . We accept cash\, check Venmo and PayPal \nBeginners and first time students should join our Salsa beginner sessions Thursday 7:15pm or Latin Funk Monday 6:15pm. Those classes are Designed to cover all the fundamentals: obtain balance\, coordination\, connect to the music\, build confidence and learn proper timing.\nTo Register complete the form at the bottom. \nStudio Protocol: \n\nMasks are optional.\nShoes must be changed before entering the dance floor. ( no need professional Dance Shoes\, but an extra pair with clean soles)\n\nDancers need to bring: \n\nTheir own water bottle.\nDance Shoes or clean sole shoes to change into.\nExtra t-shirt if takes 2 classes in a row.\n\n** IF YOU FEEL SICK or have been in contact with anyone who is sick\, please CANCEL your class appointment. ** \n \n\n  \n
URL:http://www.dojodancecompany.com/event/salsa-for-couples-2024-08-19/
LOCATION:Dojo Dance at J&B Dance center\, 734 Broadway\, Kingston\, NY\, United States
CATEGORIES:All Levels Salsa Instruction,Intermediate Salsa Instructions,Salsa
END:VEVENT
END:VCALENDAR