BEGIN:VCALENDAR
VERSION:2.0
PRODID:-//Tango and Salsa in New York's Hudson Valley: Dojo Dance Company - ECPv4.7.3//NONSGML v1.0//EN
CALSCALE:GREGORIAN
METHOD:PUBLISH
X-WR-CALNAME:Tango and Salsa in New York's Hudson Valley: Dojo Dance Company
X-ORIGINAL-URL:http://www.dojodancecompany.com
X-WR-CALDESC:Events for Tango and Salsa in New York's Hudson Valley: Dojo Dance Company
BEGIN:VEVENT
DTSTART;TZID=America/New_York:20250628T103000
DTEND;TZID=America/New_York:20250628T133000
DTSTAMP:20260421T134726
CREATED:20250612T063754Z
LAST-MODIFIED:20250612T145300Z
UID:16558-1751106600-1751117400@www.dojodancecompany.com
SUMMARY:SPECIAL WORKSHOP: RUEDA DE CASINO
DESCRIPTION:DOJO DANCE CO. RUEDA WORKSHOPS \nReally hyped about the return of RUEDA (One of the most exciting\, fun & community oriented SALSA styles). Rooted and cooked in CUBA this style can be as elegant as explosive depending the direction you take it… always full of heart and flavor! COME & LIVE IT. \nSATURDAY 06/28\n734 Broadway\, Kingston NY \n10:30 Level 1 Rueda (drop ins welcome) \n12pm Level 2 Rueda + Practice (pre registration required) \n$26 Workshop\n$42 full event (experienced Rueda dancers only)\n** processing fee is already added* \n734 Broadway\, Kingston NY \n  \nREGISTER HERE\n
URL:http://www.dojodancecompany.com/event/special-workshop-rueda-de-casino/
LOCATION:Dojo Dance at J&B Dance center\, 734 Broadway\, Kingston\, NY\, United States
CATEGORIES:All Levels Salsa Instruction,Beginning Salsa Instruction,Intermediate Salsa Instructions,Practica,Salsa,Social Dance
ATTACH;FMTTYPE=image/jpeg:http://www.dojodancecompany.com/wp-content/uploads/2025/06/IMG_7173.jpg
ORGANIZER;CN="Dojo%20Dance%20Company":MAILTO:dojodanceco@gmail.com
END:VEVENT
END:VCALENDAR