BEGIN:VCALENDAR
VERSION:2.0
PRODID:-//Tango and Salsa in New York's Hudson Valley: Dojo Dance Company - ECPv4.7.3//NONSGML v1.0//EN
CALSCALE:GREGORIAN
METHOD:PUBLISH
X-WR-CALNAME:Tango and Salsa in New York's Hudson Valley: Dojo Dance Company
X-ORIGINAL-URL:http://www.dojodancecompany.com
X-WR-CALDESC:Events for Tango and Salsa in New York's Hudson Valley: Dojo Dance Company
BEGIN:VEVENT
DTSTART;TZID=America/New_York:20250227T180000
DTEND;TZID=America/New_York:20250227T190000
DTSTAMP:20260421T152143
CREATED:20250222T154308Z
LAST-MODIFIED:20250226T140739Z
UID:16158-1740679200-1740682800@www.dojodancecompany.com
SUMMARY:TANGO: ABSOLUTE BEGINNER
DESCRIPTION:Are you ready for new action in your life? \nYou and your partner or friends want to jump into a new adventure? \nMaybe you are bored of your daily routine… or need to start fresh. It is time to add more excitement to your life. Learn new skills\, open up to a new circle of friends and community. \nThis “4-week Program” for absolute beginners is excellent for you to start your dancing journey. \nLET’S GO. \n  \nKick off Thursday 02/27 ends 03/20 \n  \nDates: Thursday 2/27\, 3/6\, 3/13 & 3/20 \nTime: 6 – 7pm \nAddress: 16 Cedar street\, Kingston NY \nFee: $65 FULL PROGRAM PER PERSON. \nThere are no refunds or make ups if you miss a class. \n\nMore info \nWhat to bring:\n– clean sole shoes to change into. Street shoes bring mud\, dirt and pebbles that scratch the wooden floor (any sneakers or shoes with smooth soles\, less grip the better to pivot and spin). No flip flops\, heavy boots or loose sandals. (Dance shoes are not mandatory).\n– Water bottle (there is a water fountain to refill)\n– comfortable clothing.\nTo know:\nCome a few minutes earlier.\nThere is street parking and parking space in the back of the building. Please respect the tenants’ space.\nAny questions or assistance please text or email us. \nWant to get a head start?…check out our beginner’s videos here: ARGENTINE TANGO BASICS \nYou can pay with Check or cash at the door or send us your monthly pass via VENMO\nhttps://venmo.com/u/DojoDancecompany \n** Keep it safe\, IF YOU FEEL SICK or have been in contact with anyone who is sick\, please CANCEL your class appointment. ** \nQuestions: dojodanceco@gmail.com \n
URL:http://www.dojodancecompany.com/event/tango-absolute-beginner/2025-02-27/
LOCATION:16 cedar street\, Kingston NY\, NY\, 12401\, United States
CATEGORIES:absolute beginner,All Levels Tango Instruction,Beginning Tango Instruction,Tango
END:VEVENT
END:VCALENDAR