BEGIN:VCALENDAR
VERSION:2.0
PRODID:-//Tango and Salsa in New York's Hudson Valley: Dojo Dance Company - ECPv4.7.3//NONSGML v1.0//EN
CALSCALE:GREGORIAN
METHOD:PUBLISH
X-WR-CALNAME:Tango and Salsa in New York's Hudson Valley: Dojo Dance Company
X-ORIGINAL-URL:https://www.dojodancecompany.com
X-WR-CALDESC:Events for Tango and Salsa in New York's Hudson Valley: Dojo Dance Company
BEGIN:VEVENT
DTSTART;VALUE=DATE:20240704
DTEND;VALUE=DATE:20240706
DTSTAMP:20260421T165628
CREATED:20240704T155115Z
LAST-MODIFIED:20240704T155233Z
UID:14458-1720062000-1720144799@www.dojodancecompany.com
SUMMARY:HAPPY 4TH!! NO CLASSES TODAY
DESCRIPTION:HAPPY 4TH OF JULY!\nENJOY THE DAY…. SEE YOU NEXT WEEK!!! \nWE ARE SOON FLYING HOME TO NURTURE OURSELVES AND HAVE FAMILY TIME. SO DON’T MISS US JULY 11TH! \n \n
URL:https://www.dojodancecompany.com/event/happy-4th-no-classes-today/
LOCATION:16 cedar street\, Kingston NY\, NY\, 12401\, United States
ORGANIZER;CN="Dojo%20Dance%20Company":MAILTO:dojodanceco@gmail.com
END:VEVENT
END:VCALENDAR