BEGIN:VCALENDAR
VERSION:2.0
PRODID:-//Tango and Salsa in New York's Hudson Valley: Dojo Dance Company - ECPv4.7.3//NONSGML v1.0//EN
CALSCALE:GREGORIAN
METHOD:PUBLISH
X-WR-CALNAME:Tango and Salsa in New York's Hudson Valley: Dojo Dance Company
X-ORIGINAL-URL:https://www.dojodancecompany.com
X-WR-CALDESC:Events for Tango and Salsa in New York's Hudson Valley: Dojo Dance Company
BEGIN:VEVENT
DTSTART;TZID=America/New_York:20250918T191500
DTEND;TZID=America/New_York:20250918T201500
DTSTAMP:20260422T014315
CREATED:20240102T181429Z
LAST-MODIFIED:20250803T033521Z
UID:13203-1758222900-1758226500@www.dojodancecompany.com
SUMMARY:Absolute Beginner Salsa
DESCRIPTION:Welcome to the dance world\nABSOLUTE BEGINNER SALSA  (6 Week-Program)\nwhat to expect? \n\nLearn all the basics.\nPosture & technique.\nUnderstand and execute proper timing.\nMeet new people and join the dance community.\nExtra Perks: dance will boost your confidence\, memory and cognitive performance. Improve emotional & physical health.\n\n\n\n\n\n\nSo… what is holding you back?\nTo Register complete the form at the end of page.\n\n\n\n\n\n\n6 WEEK-PROGRAM: NEXT CYCLE SEPTEMBER 18-OCTOBER 23\n\nDay: Thursday (6 Thursday Beginning 9/18)\n\nTime: 7:15pm\n\nAddress: 16 Cedar street\, Kingston NY\n\nFee: $100 for full program\n\nThere are no refunds or make ups if you miss a class.\n\nMore info \nWhat to bring:\n– clean sole shoes to change into. Street shoes bring mud\, dirt and pebbles that scratch the wooden floor (any sneakers or shoes with smooth soles\, less grip the better to pivot and spin). No flip flops\, heavy boots or loose sandals. (Dance shoes are not mandatory).\n– Water bottle (there is a water fountain to refill)\n– comfortable clothing.\nTo know:\nCome a few minutes earlier. Front Door lock at 7:15pm. If you are late enter through the back (parking lot\, metal door).\nThere is street parking and parking space in the back of the building. Please respect the tenants’ space.\nAny questions or assistance please text or email us. \nWant to get a head start?…check out our beginner’s videos here: TUTORIALS FOR BEGINNERS  \nYou can pay with Check or cash at the door or send us your monthly pass via VENMO\nhttps://venmo.com/u/DojoDancecompany \n** Keep it safe\, IF YOU FEEL SICK or have been in contact with anyone who is sick\, please CANCEL your class appointment. ** \nQuestions: dojodanceco@gmail.com \n\n\n\nwindow.jotformEmbedHandler("iframe[id='JotFormIFrame-240285534223653']"\, "https://form.jotform.com/")\n \n
URL:https://www.dojodancecompany.com/event/salsa-level-1-with-owen/2025-09-18/
LOCATION:16 cedar street\, Kingston NY\, NY\, 12401\, United States
CATEGORIES:absolute beginner,Beginning Salsa Instruction,Salsa
END:VEVENT
END:VCALENDAR