BEGIN:VCALENDAR
VERSION:2.0
PRODID:-//Tango and Salsa in New York's Hudson Valley: Dojo Dance Company - ECPv4.7.3//NONSGML v1.0//EN
CALSCALE:GREGORIAN
METHOD:PUBLISH
X-WR-CALNAME:Tango and Salsa in New York's Hudson Valley: Dojo Dance Company
X-ORIGINAL-URL:https://www.dojodancecompany.com
X-WR-CALDESC:Events for Tango and Salsa in New York's Hudson Valley: Dojo Dance Company
BEGIN:VEVENT
DTSTART;TZID=America/New_York:20260309T170000
DTEND;TZID=America/New_York:20260309T180000
DTSTAMP:20260421T165952
CREATED:20260118T002338Z
LAST-MODIFIED:20260118T002338Z
UID:17280-1773075600-1773079200@www.dojodancecompany.com
SUMMARY:SALSA FOR CHILDREN
DESCRIPTION:We are launching Salsa lessons tailored for pre-teens (ideal for 8-12 years old. \nKick off date: Monday January 26 \nTime: 5-6pm \nVenue: J&B Dance Center \nAddress: 734 Broadway\, Kingston NY \nFirst class is drop in $20 \nRegistration for 6 weeks is $100. \nDon’t miss the chance to give your children an opportunity to express\, be joyful\, connect with their body while diving into the world of Latin Music & culture. Maia is really excited to start this series let’s go!!! \n
URL:https://www.dojodancecompany.com/event/salsa-for-children/2026-03-09/
LOCATION:Dojo Dance at J&B Dance center\, 734 Broadway\, Kingston\, NY\, United States
CATEGORIES:absolute beginner,All Levels Salsa Instruction,All Levels Tango Instruction,Beginning Salsa Instruction,Intermediate Salsa Instructions,Practica,Practilonga
ATTACH;FMTTYPE=image/jpeg:https://www.dojodancecompany.com/wp-content/uploads/2026/01/IMG_9344-scaled.jpg
ORGANIZER;CN="Dojo%20Dance%20Company":MAILTO:dojodanceco@gmail.com
END:VEVENT
END:VCALENDAR