BEGIN:VCALENDAR
VERSION:2.0
PRODID:-//Tango and Salsa in New York's Hudson Valley: Dojo Dance Company - ECPv4.7.3//NONSGML v1.0//EN
CALSCALE:GREGORIAN
METHOD:PUBLISH
X-WR-CALNAME:Tango and Salsa in New York's Hudson Valley: Dojo Dance Company
X-ORIGINAL-URL:https://www.dojodancecompany.com
X-WR-CALDESC:Events for Tango and Salsa in New York's Hudson Valley: Dojo Dance Company
BEGIN:VEVENT
DTSTART;TZID=America/New_York:20250719T103000
DTEND;TZID=America/New_York:20250719T133000
DTSTAMP:20260419T191121
CREATED:20250718T203153Z
LAST-MODIFIED:20250803T032620Z
UID:16669-1752921000-1752931800@www.dojodancecompany.com
SUMMARY:TANGO PRACTICA
DESCRIPTION:Practicamos? \nAre you currently taking Tango lessons?\nAre you learning cool moves but don’t feel ready to try them in the dance floor?\nMaybe you feel stuck or uninspired.\nNeed a little advice or friends to practice with? Maybe a pair of eyes to give you feedback ? \n One answer suits all: ATTEND A TANGO PRACTICA! \nLook at it this way: \nYou attend a practica. Meet peers\, get to “talk” your tango “problems” and most likely solve them or have more clarity.\nIn our practica you can laugh\, stop\, ask\, dance\, study\, observe\, explore.\nYour confidence will grow.\nYour community and your connection to it will get stronger. \nI think your prayers have been answered. We\nWill host a practica\, you will come. Your dance will improve and all your life challenges will vanish. THE END!  \nSATURDAY 7/19 at J & B Dance Center \nTUESDAY 8/05 at Center for Creative Education – Arts with a purpose 7-9pm with Sergey Jivetin \nStay gorgeous ! \n#tango #kingstonny #kingston #dojodanceco\nSent from my iPhone \n
URL:https://www.dojodancecompany.com/event/tango-practica/
LOCATION:Dojo Dance at J&B Dance center\, 734 Broadway\, Kingston\, NY\, United States
CATEGORIES:absolute beginner,All Levels Tango Instruction,Beginning Tango Instruction,Intermediate Tango Instruction,Practica,Practilonga,Tango,TANGO SHOES
ATTACH;FMTTYPE=image/jpeg:https://www.dojodancecompany.com/wp-content/uploads/2022/11/IMG_7521-scaled.jpg
ORGANIZER;CN="Dojo%20Dance%20Company":MAILTO:dojodanceco@gmail.com
END:VEVENT
END:VCALENDAR