BEGIN:VCALENDAR
VERSION:2.0
PRODID:-//Tango and Salsa in New York's Hudson Valley: Dojo Dance Company - ECPv4.7.3//NONSGML v1.0//EN
CALSCALE:GREGORIAN
METHOD:PUBLISH
X-WR-CALNAME:Tango and Salsa in New York's Hudson Valley: Dojo Dance Company
X-ORIGINAL-URL:https://www.dojodancecompany.com
X-WR-CALDESC:Events for Tango and Salsa in New York's Hudson Valley: Dojo Dance Company
BEGIN:VEVENT
DTSTART;TZID=America/New_York:20260424T100000
DTEND;TZID=America/New_York:20260426T210000
DTSTAMP:20260421T191512
CREATED:20251207T212222Z
LAST-MODIFIED:20251228T032054Z
UID:16928-1777024800-1777237200@www.dojodancecompany.com
SUMMARY:Hudson Valley Tango Festival 2026
DESCRIPTION:Our 8th edition is on its way.\n\nGET YOUR TICKET.\n\nSAVE THE DATE.\n\nPASS THE WORD.\n\nEARLY BIRD REGISTRATIONS ARE OPEN UNTIL FEBRUARY 1ST!!\n\nREGISTER FOR HUDSON VALLEY TANGO FESTIVAL 2026\n\n
URL:https://www.dojodancecompany.com/event/hudson-valley-tango-festival-2026/
LOCATION:SENATE GARAGE\, 4 N FRONT STREET\, Kingston\, NY\, 12401\, United States
GEO:41.9353405;-74.019015
X-APPLE-STRUCTURED-LOCATION;VALUE=URI;X-ADDRESS=SENATE GARAGE 4 N FRONT STREET Kingston NY 12401 United States;X-APPLE-RADIUS=500;X-TITLE=4 N FRONT STREET:geo:-74.019015,41.9353405
CATEGORIES:absolute beginner,All Levels Tango Instruction,Beginning Tango Instruction,Intermediate Tango Instruction,Milonga,Practica,Practilonga,Social Dance,Tango,TANGO CLOTHING,TANGO FESTIVAL,TANGO SHOES
ATTACH;FMTTYPE=image/jpeg:https://www.dojodancecompany.com/wp-content/uploads/2025/12/HVTF-V2@4x-100-1-scaled.jpg
ORGANIZER;CN="Dojo%20Dance%20Company":MAILTO:dojodanceco@gmail.com
END:VEVENT
END:VCALENDAR